BEGIN:VCALENDAR
VERSION:2.0
PRODID:-//Witherspoon Presbyterian Church - ECPv6.15.20//NONSGML v1.0//EN
CALSCALE:GREGORIAN
METHOD:PUBLISH
X-WR-CALNAME:Witherspoon Presbyterian Church
X-ORIGINAL-URL:https://wpcindy.org
X-WR-CALDESC:Events for Witherspoon Presbyterian Church
REFRESH-INTERVAL;VALUE=DURATION:PT1H
X-Robots-Tag:noindex
X-PUBLISHED-TTL:PT1H
BEGIN:VTIMEZONE
TZID:UTC
BEGIN:STANDARD
TZOFFSETFROM:+0000
TZOFFSETTO:+0000
TZNAME:UTC
DTSTART:20240101T000000
END:STANDARD
END:VTIMEZONE
BEGIN:VEVENT
DTSTART;TZID=UTC:20251228T100000
DTEND;TZID=UTC:20251228T160000
DTSTAMP:20260422T162440
CREATED:20251222T175507Z
LAST-MODIFIED:20251222T175507Z
UID:25067-1766916000-1766937600@wpcindy.org
SUMMARY:2nd Annual Kwanzaa Community Festival
DESCRIPTION:SAVE THE DATE  \nWitherspoon Presbyterian Church and the Indiana State Museum Joyfully Present \n2nd Annual Kwanzaa Community Festival  \nHarambee! A Cultural Celebration of Faith\, Family\, and a Vision for the Future \nSunday\, December 28\, 2025\n10:00 AM – 4:00 PM\nfeaturing\nFamily Activities\, African Music and Dance\, Cultural Vendors\, Interactive Exhibits\, a Community Resources\, Live Performances\, and More! \nYou’re all invited! Come celebrate Kwanzaa with Witherspoon Presbyterian Church and the Indiana State Museum! Join us on Sunday\, December 28 from 10:00 AM – 4:00 PM for our Inaugural Kwanzaa Community Festival entitled “Harambee! A Cultural Celebration of Faith\, Family\, and a Vision for the Future.” Harambee is a Swahili word that means “unity” or “let’s pull together!” Make plans to join us for this day-long immersive cultural experience complete with family activities\, African music and dances\, cultural vendors\, interactive exhibits\, a community worship service\, live performances\, and more! This entire experience is free and open to the public! \nFree and Open to All
URL:https://wpcindy.org/event/inaugural-kwanzaa-community-festival-copy/
LOCATION:Indiana State Museum\, 650 West Washington St.\, Indianapolis\, IN\, United States
CATEGORIES:Festival
ATTACH;FMTTYPE=image/jpeg:https://wpcindy.org/wp-content/uploads/2025/12/unnamed-1.jpg
END:VEVENT
BEGIN:VEVENT
DTSTART;TZID=UTC:20251224T180000
DTEND;TZID=UTC:20251224T200000
DTSTAMP:20260422T162440
CREATED:20251222T180027Z
LAST-MODIFIED:20251222T180028Z
UID:25073-1766599200-1766606400@wpcindy.org
SUMMARY:101st Annual Christmas Eve Candlelight Service
DESCRIPTION:Witherspoon Presbyterian Church \n101st Annual Christmas Eve \nCandlelight Service \nWednesday\, December 24\, 2025 \n6:00 PM • Live from Witherspoon \nFeaturing \nThe Sanctuary Choir of Witherspoon\, Members of Philharmonic Orchestra of Indianapolis\, the Witherspoon Bell Choir\, the Imani Praise Dancers of Witherspoon \nSpecial Featured Guest \nInternationally Acclaimed Soprano \nAngela Brown \nFree and Open to the Public \nAll Are Welcome \n3535 Kessler Blvd N. Drive Indianapolis\, IN 4622 \n\n\nDr. Winterbourne Harrison-Jones\, Senior Pastor
URL:https://wpcindy.org/event/101st-annual-christmas-eve-candlelight-service/
LOCATION:Witherspoon Presbyterian Church\, 3535 W. Kessler Blvd. N. Dr.\, Indianapolis\, IN\, United States
CATEGORIES:Festival
ATTACH;FMTTYPE=image/jpeg:https://wpcindy.org/wp-content/uploads/2025/12/2025-Candlelight-Service-Flyer-4-scaled.jpg
END:VEVENT
BEGIN:VEVENT
DTSTART;TZID=UTC:20251220T180000
DTEND;TZID=UTC:20251220T200000
DTSTAMP:20260422T162440
CREATED:20251222T180608Z
LAST-MODIFIED:20251222T180609Z
UID:25076-1766253600-1766260800@wpcindy.org
SUMMARY:A Blanket of Joy: A Fireside Christmas
DESCRIPTION:Arts at Witherspoon Proudly Present\nCommunity Christmas Concert\nA Blanket of Joy: A Fireside Christmas\nfeaturing\nDr. Jillian Harrison-Jones and Friends \nJoin us for a Magical Moment to pause from the Chaos and Commercialization of Christmas\, and reflect on the Calm\, Coziness\, Peace of the Season. \n\nDecember 20\, 2025 | 6:00 PM\nThe Imani Campus\n3535 Kessler Blvd North Dr.\nIndianapolis\, IN 46225\n\nFree and Open to the Public
URL:https://wpcindy.org/event/a-blanket-of-joy-a-fireside-christmas/
LOCATION:Witherspoon Presbyterian Church\, 3535 W. Kessler Blvd. N. Dr.\, Indianapolis\, IN\, United States
CATEGORIES:Festival
ATTACH;FMTTYPE=image/jpeg:https://wpcindy.org/wp-content/uploads/2025/12/FiresideChristmas2025-4-scaled.jpg
END:VEVENT
BEGIN:VEVENT
DTSTART;TZID=UTC:20251214T180000
DTEND;TZID=UTC:20251214T200000
DTSTAMP:20260422T162440
CREATED:20251222T181139Z
LAST-MODIFIED:20251222T181228Z
UID:25082-1765735200-1765742400@wpcindy.org
SUMMARY:Holiday Ice Skating with the Pastor
DESCRIPTION:Sunday\, December 14\nIce Skating with the Pastor\n\nGuest Appearance\nDr. Brandon Cosby as Santa!\n\nFree Fun for the Whole Family
URL:https://wpcindy.org/event/holiday-ice-skating-with-the-pastor/
LOCATION:Holiday Park Ice Rink\, 6363 Spring Mill Rd.\, Indianapolis\, IN\, 46260\, United States
CATEGORIES:Festival
ATTACH;FMTTYPE=image/jpeg:https://wpcindy.org/wp-content/uploads/2025/12/Ice-Skating-with-Pastor-2025-2-scaled.jpg
END:VEVENT
BEGIN:VEVENT
DTSTART;TZID=UTC:20251102T110000
DTEND;TZID=UTC:20251102T130000
DTSTAMP:20260422T162440
CREATED:20251222T180834Z
LAST-MODIFIED:20251222T180932Z
UID:25079-1762081200-1762088400@wpcindy.org
SUMMARY:All Saints' Day 2025
DESCRIPTION:All Saints Day at Witherspoon Presbyterian Church \nWelcome Special Guests\nPresident Dr. Lake Lambert and Concert Choir of Hanover College\nJoin us for this sacred time of Remembrance and Recommitment\nThe Concert Choir of Hanover College\nGuest Musicians \nDr. Winterbourne Harrison-Jones-Preacher \nDr. Lake Lambert-Guest Celebrant \nWe Welcome all Hanover College Alumni and Friends\nSunday\, November 2\, 2025\n11:00 AM\nWitherspoon Presbyterian Church\n3535 Kessler Blvd N. Drive
URL:https://wpcindy.org/event/all-saints-day-2025/
LOCATION:Witherspoon Presbyterian Church\, 3535 W. Kessler Blvd. N. Dr.\, Indianapolis\, IN\, United States
CATEGORIES:Festival
ATTACH;FMTTYPE=image/jpeg:https://wpcindy.org/wp-content/uploads/2025/12/ASD-2025.jpg
END:VEVENT
BEGIN:VEVENT
DTSTART;TZID=UTC:20251019T160000
DTEND;TZID=UTC:20251019T180000
DTSTAMP:20260422T162440
CREATED:20251222T175831Z
LAST-MODIFIED:20251222T175831Z
UID:25070-1760889600-1760896800@wpcindy.org
SUMMARY:Wilberforce University Chorus - Live at Witherspoon
DESCRIPTION:Wilberforce University Chorus Live at Witherspoon \nSunday\, October 19\, 2025 at 4pm\nFree and Open to the Public
URL:https://wpcindy.org/event/wilberforce-university-chorus-live-at-witherspoon/
LOCATION:IN
CATEGORIES:Festival
ATTACH;FMTTYPE=image/jpeg:https://wpcindy.org/wp-content/uploads/2025/12/Wilberforce-Concert-3.jpg
END:VEVENT
BEGIN:VEVENT
DTSTART;TZID=UTC:20250817T173000
DTEND;TZID=UTC:20250817T193000
DTSTAMP:20260422T162440
CREATED:20251222T181512Z
LAST-MODIFIED:20251222T181513Z
UID:25086-1755451800-1755459000@wpcindy.org
SUMMARY:Juneteenth: The Remix
DESCRIPTION:A moment of contemplation and hope for our nation \nJuneteenth: The Remix \nFREE EVENT | Sunday\, August 17\, 2025 \nManon Voice\, Urban Renewal Big Band\, Traditional African Ceremonies\, Dance
URL:https://wpcindy.org/event/juneteenth-the-remix/
LOCATION:Witherspoon Presbyterian Church\, 3535 W. Kessler Blvd. N. Dr.\, Indianapolis\, IN\, United States
CATEGORIES:Festival
ATTACH;FMTTYPE=image/jpeg:https://wpcindy.org/wp-content/uploads/2025/12/Juneteenth-2025-3.jpg
END:VEVENT
BEGIN:VEVENT
DTSTART;TZID=UTC:20250608T180000
DTEND;TZID=UTC:20250608T200000
DTSTAMP:20260422T162440
CREATED:20251222T181729Z
LAST-MODIFIED:20251222T181730Z
UID:25090-1749405600-1749412800@wpcindy.org
SUMMARY:Uniting Voices Lexington - LIVE in Concert
DESCRIPTION:Arts at Witherpoon Joyfully Presents \nUniting Voices Lexington \nLive in Concert \nJoin us for an unforgettable evening of music as Uniting Voices Lexington kicks off its first ever tour at Witherspoon Presbyterian Church in Indianapolis! This vibrant youth choir from Kentucky empowers young people to be leaders and changemakers through the transformative power of music. Experience soul stirring songs from around the world as we celebrate unity\, joy\, and the strength of community. Come be inspired! Let’s lift every voice together. \nSunday\, June 8\, 2025 · 6:00 PM \nWitherspoon Presbyterian Church \n3535 Kessler Blvd N. Drive \nIndianapolis\, IN 46222 \nFree and Open to the Public \nFree Will Offering Collected \nReception to Follow
URL:https://wpcindy.org/event/uniting-voices-lexington-live-in-concert/
LOCATION:Witherspoon Presbyterian Church\, 3535 W. Kessler Blvd. N. Dr.\, Indianapolis\, IN\, United States
CATEGORIES:Festival
ATTACH;FMTTYPE=image/jpeg:https://wpcindy.org/wp-content/uploads/2025/12/Uniting-Voices3.jpg
END:VEVENT
END:VCALENDAR